BEGIN:VCALENDAR
VERSION:2.0
PRODID:-//Altus AFB - ECPv6.15.20//NONSGML v1.0//EN
CALSCALE:GREGORIAN
METHOD:PUBLISH
X-WR-CALNAME:Altus AFB
X-ORIGINAL-URL:https://altusfss.com
X-WR-CALDESC:Events for Altus AFB
REFRESH-INTERVAL;VALUE=DURATION:PT1H
X-Robots-Tag:noindex
X-PUBLISHED-TTL:PT1H
BEGIN:VTIMEZONE
TZID:UTC
BEGIN:STANDARD
TZOFFSETFROM:+0000
TZOFFSETTO:+0000
TZNAME:UTC
DTSTART:20250101T000000
END:STANDARD
END:VTIMEZONE
BEGIN:VEVENT
DTSTART;VALUE=DATE:20260406
DTEND;VALUE=DATE:20260630
DTSTAMP:20260421T114925
CREATED:20260327T174113Z
LAST-MODIFIED:20260327T174114Z
UID:10002632-1775433600-1782777599@altusfss.com
SUMMARY:Climb Mt. Everest
DESCRIPTION:Take on the challenge of climbing Mt. Everest with the Fitness Center between April 6 and June 29. You can either conquer 2500 flights on a stepper or stairs\, or walk/run 90 miles to complete this adventure! We’ll track your progress at the Fitness Center. For more information\, please call 580-481-7440.
URL:https://altusfss.com/event/climb-mt-everest-2/
LOCATION:Altus AFB Fitness Center
ATTACH;FMTTYPE=image/jpeg:https://altusfss.com/wp-content/uploads/2026/03/FC_ClimbMtEverest_Flyer_6Apr-1-scaled.jpg
END:VEVENT
BEGIN:VEVENT
DTSTART;TZID=UTC:20260421T103000
DTEND;TZID=UTC:20260421T113000
DTSTAMP:20260421T114925
CREATED:20260105T204454Z
LAST-MODIFIED:20260105T204454Z
UID:10002243-1776767400-1776771000@altusfss.com
SUMMARY:Storytime
DESCRIPTION:Bring your little ones to enjoy Storytime every Tuesday at 1030 at your Base Library. For more information\, please call 481-6302.
URL:https://altusfss.com/event/storytime-3/2026-04-21/
LOCATION:Altus AFB Library
CATEGORIES:Hot Events
ATTACH;FMTTYPE=image/jpeg:https://altusfss.com/wp-content/uploads/2026/01/Lib_Storytime_flyer_Tuesdays-scaled.jpg
END:VEVENT
BEGIN:VEVENT
DTSTART;TZID=UTC:20260421T163000
DTEND;TZID=UTC:20260421T183000
DTSTAMP:20260421T114925
CREATED:20260408T173014Z
LAST-MODIFIED:20260408T173015Z
UID:10002734-1776789000-1776796200@altusfss.com
SUMMARY:Crochet Club
DESCRIPTION:Join us for a delightful evening of crocheting! Bring your creativity and learn something new! We will have some materials on hand\, but if possible\, please bring your own. Recommended age is 13 and older. For more information\, don’t hesitate to call 580-481-6302.
URL:https://altusfss.com/event/crochet-club-6/
LOCATION:Altus AFB Library
CATEGORIES:Hot Events
ATTACH;FMTTYPE=application/pdf:https://altusfss.com/wp-content/uploads/2026/04/Lib_CrochetClub_Flyer_21Apr.pdf
END:VEVENT
BEGIN:VEVENT
DTSTART;TZID=UTC:20260421T170000
DTEND;TZID=UTC:20260421T190000
DTSTAMP:20260421T114925
CREATED:20251126T160726Z
LAST-MODIFIED:20251126T160726Z
UID:10002164-1776790800-1776798000@altusfss.com
SUMMARY:Murder Mystery Game Night
DESCRIPTION:Come and be part of our Murder Mystery Game Night! Collaborate as a team to unravel an exciting murder mystery\, where everyone has an important part to play\, exchanging clues and notes to solve the case. Snacks and beverages will be available. Recommended age is 14+.  For more information\, please call 481-6302.
URL:https://altusfss.com/event/murder-mystery-game-night/2026-04-21/
LOCATION:Altus AFB Library
CATEGORIES:Hot Events
ATTACH;FMTTYPE=image/jpeg:https://altusfss.com/wp-content/uploads/2025/11/Lib_MurderMystery_Flyer_Tues-scaled.jpg
END:VEVENT
END:VCALENDAR